Package: hypergraph Version: 1.78.0 Command: /home/biocbuild/R/R/bin/R CMD check --install=check:hypergraph.install-out.txt --library=/home/biocbuild/R/R/site-library --no-vignettes --timings hypergraph_1.78.0.tar.gz StartedAt: 2025-01-28 08:04:25 -0000 (Tue, 28 Jan 2025) EndedAt: 2025-01-28 08:04:51 -0000 (Tue, 28 Jan 2025) EllapsedTime: 26.0 seconds RetCode: 0 Status: OK CheckDir: hypergraph.Rcheck Warnings: 0