Package: hypergraph Version: 1.78.0 Command: /Library/Frameworks/R.framework/Resources/bin/R CMD build --keep-empty-dirs --no-resave-data hypergraph StartedAt: 2025-01-27 19:45:16 -0500 (Mon, 27 Jan 2025) EndedAt: 2025-01-27 19:45:19 -0500 (Mon, 27 Jan 2025) EllapsedTime: 2.5 seconds RetCode: 0 Status: OK PackageFile: hypergraph_1.78.0.tar.gz PackageFileSize: 8.272 KiB