Package: hypergraph Version: 1.78.0 Command: /Library/Frameworks/R.framework/Resources/bin/R CMD INSTALL hypergraph StartedAt: 2025-01-27 15:08:53 -0500 (Mon, 27 Jan 2025) EndedAt: 2025-01-27 15:08:58 -0500 (Mon, 27 Jan 2025) EllapsedTime: 4.5 seconds RetCode: 0 Status: OK