Package: hypergraph Version: 1.78.0 Command: /Library/Frameworks/R.framework/Resources/bin/R CMD build --keep-empty-dirs --no-resave-data hypergraph StartedAt: 2025-04-01 01:22:50 -0400 (Tue, 01 Apr 2025) EndedAt: 2025-04-01 01:22:51 -0400 (Tue, 01 Apr 2025) EllapsedTime: 1.2 seconds RetCode: 0 Status: OK PackageFile: hypergraph_1.78.0.tar.gz PackageFileSize: 8.275 KiB