Package: hypeR Version: 2.4.0 Command: /home/biocbuild/R/R/bin/R CMD check --install=check:hypeR.install-out.txt --library=/home/biocbuild/R/R/site-library --no-vignettes --timings hypeR_2.4.0.tar.gz StartedAt: 2025-02-11 07:12:05 -0000 (Tue, 11 Feb 2025) EndedAt: 2025-02-11 07:15:05 -0000 (Tue, 11 Feb 2025) EllapsedTime: 180.2 seconds RetCode: 0 Status: WARNINGS CheckDir: hypeR.Rcheck Warnings: 2