Package: hypeR Version: 2.4.0 Command: chmod a+r hypeR -R && F:\biocbuild\bbs-3.20-bioc\R\bin\R.exe CMD build --keep-empty-dirs --no-resave-data hypeR StartedAt: 2025-02-10 19:41:21 -0500 (Mon, 10 Feb 2025) EndedAt: 2025-02-10 19:41:51 -0500 (Mon, 10 Feb 2025) EllapsedTime: 29.6 seconds RetCode: 0 Status: OK PackageFile: hypeR_2.4.0.tar.gz PackageFileSize: 316.5 KiB