Package: hypeR Version: 2.4.0 Command: /home/biocbuild/bbs-3.20-bioc/R/bin/R CMD INSTALL hypeR StartedAt: 2025-02-10 15:59:06 -0500 (Mon, 10 Feb 2025) EndedAt: 2025-02-10 15:59:14 -0500 (Mon, 10 Feb 2025) EllapsedTime: 8.0 seconds RetCode: 0 Status: OK