Package: hypeR Version: 2.4.0 Command: /Library/Frameworks/R.framework/Resources/bin/R CMD build --keep-empty-dirs --no-resave-data hypeR StartedAt: 2025-02-10 19:38:37 -0500 (Mon, 10 Feb 2025) EndedAt: 2025-02-10 19:39:12 -0500 (Mon, 10 Feb 2025) EllapsedTime: 35.6 seconds RetCode: 0 Status: OK PackageFile: hypeR_2.4.0.tar.gz PackageFileSize: 316.4 KiB