Package: hypeR Version: 2.4.0 Command: /Library/Frameworks/R.framework/Resources/bin/R CMD build --keep-empty-dirs --no-resave-data hypeR StartedAt: 2025-02-11 01:40:37 -0500 (Tue, 11 Feb 2025) EndedAt: 2025-02-11 01:40:55 -0500 (Tue, 11 Feb 2025) EllapsedTime: 17.2 seconds RetCode: 0 Status: OK PackageFile: hypeR_2.4.0.tar.gz PackageFileSize: 316.5 KiB