Package: hummingbird Version: 1.16.0 Command: /home/biocbuild/R/R/bin/R CMD INSTALL hummingbird StartedAt: 2025-01-27 21:12:43 -0000 (Mon, 27 Jan 2025) EndedAt: 2025-01-27 21:13:15 -0000 (Mon, 27 Jan 2025) EllapsedTime: 31.7 seconds RetCode: 0 Status: OK