Package: hummingbird Version: 1.16.0 Command: /home/biocbuild/R/R/bin/R CMD check --install=check:hummingbird.install-out.txt --library=/home/biocbuild/R/R/site-library --no-vignettes --timings hummingbird_1.16.0.tar.gz StartedAt: 2025-01-28 08:03:23 -0000 (Tue, 28 Jan 2025) EndedAt: 2025-01-28 08:06:11 -0000 (Tue, 28 Jan 2025) EllapsedTime: 168.2 seconds RetCode: 0 Status: OK CheckDir: hummingbird.Rcheck Warnings: 0