Package: hummingbird Version: 1.16.0 Command: /home/biocbuild/R/R/bin/R CMD build --keep-empty-dirs --no-resave-data hummingbird StartedAt: 2025-01-28 00:59:24 -0000 (Tue, 28 Jan 2025) EndedAt: 2025-01-28 01:00:09 -0000 (Tue, 28 Jan 2025) EllapsedTime: 45.0 seconds RetCode: 0 Status: OK PackageFile: hummingbird_1.16.0.tar.gz PackageFileSize: 442.8 KiB