Package: hummingbird Version: 1.16.0 Command: /Library/Frameworks/R.framework/Resources/bin/R CMD INSTALL hummingbird StartedAt: 2025-01-30 15:24:46 -0500 (Thu, 30 Jan 2025) EndedAt: 2025-01-30 15:25:13 -0500 (Thu, 30 Jan 2025) EllapsedTime: 26.7 seconds RetCode: 0 Status: OK