Package: hpar Version: 1.48.0 Command: rm -rf hpar.buildbin-libdir && mkdir hpar.buildbin-libdir && F:\biocbuild\bbs-3.20-bioc\R\bin\R.exe CMD INSTALL --build --library=hpar.buildbin-libdir hpar_1.48.0.tar.gz StartedAt: 2025-04-01 08:24:16 -0400 (Tue, 01 Apr 2025) EndedAt: 2025-04-01 08:24:41 -0400 (Tue, 01 Apr 2025) EllapsedTime: 24.7 seconds RetCode: 0 Status: OK PackageFile: hpar_1.48.0.zip PackageFileSize: 644.6 KiB