Package: hopach Version: 2.66.0 Command: /home/biocbuild/R/R/bin/R CMD INSTALL hopach StartedAt: 2025-02-10 20:09:43 -0000 (Mon, 10 Feb 2025) EndedAt: 2025-02-10 20:10:09 -0000 (Mon, 10 Feb 2025) EllapsedTime: 25.9 seconds RetCode: 0 Status: OK