Package: hopach Version: 2.66.0 Command: /home/biocbuild/R/R/bin/R CMD build --keep-empty-dirs --no-resave-data hopach StartedAt: 2025-02-11 00:10:06 -0000 (Tue, 11 Feb 2025) EndedAt: 2025-02-11 00:10:39 -0000 (Tue, 11 Feb 2025) EllapsedTime: 33.0 seconds RetCode: 0 Status: OK PackageFile: hopach_2.66.0.tar.gz PackageFileSize: 1.288 MiB