Package: hopach Version: 2.66.0 Command: /Library/Frameworks/R.framework/Resources/bin/R CMD check --install=check:hopach.install-out.txt --library=/Library/Frameworks/R.framework/Resources/library --no-vignettes --timings hopach_2.66.0.tar.gz StartedAt: 2025-04-01 21:57:19 -0400 (Tue, 01 Apr 2025) EndedAt: 2025-04-01 21:58:18 -0400 (Tue, 01 Apr 2025) EllapsedTime: 58.4 seconds RetCode: 0 Status: OK CheckDir: hopach.Rcheck Warnings: 0