Package: hoodscanR Version: 1.4.0 Command: F:\biocbuild\bbs-3.20-bioc\R\bin\R.exe CMD INSTALL hoodscanR StartedAt: 2025-01-27 16:10:19 -0500 (Mon, 27 Jan 2025) EndedAt: 2025-01-27 16:11:02 -0500 (Mon, 27 Jan 2025) EllapsedTime: 42.7 seconds RetCode: 0 Status: OK