Package: hoodscanR Version: 1.4.0 Command: chmod a+r hoodscanR -R && F:\biocbuild\bbs-3.20-bioc\R\bin\R.exe CMD build --keep-empty-dirs --no-resave-data hoodscanR StartedAt: 2025-03-31 19:33:36 -0400 (Mon, 31 Mar 2025) EndedAt: 2025-03-31 19:34:55 -0400 (Mon, 31 Mar 2025) EllapsedTime: 79.8 seconds RetCode: 0 Status: OK PackageFile: hoodscanR_1.4.0.tar.gz PackageFileSize: 1.17 MiB