Package: hmdbQuery Version: 1.26.0 Command: /home/biocbuild/R/R/bin/R CMD INSTALL hmdbQuery StartedAt: 2025-02-10 20:12:02 -0000 (Mon, 10 Feb 2025) EndedAt: 2025-02-10 20:12:33 -0000 (Mon, 10 Feb 2025) EllapsedTime: 31.0 seconds RetCode: 0 Status: OK