Package: hmdbQuery Version: 1.26.0 Command: /home/biocbuild/bbs-3.20-bioc/R/bin/R CMD check --install=check:hmdbQuery.install-out.txt --library=/home/biocbuild/bbs-3.20-bioc/R/site-library --timings hmdbQuery_1.26.0.tar.gz StartedAt: 2025-03-31 23:00:02 -0400 (Mon, 31 Mar 2025) EndedAt: 2025-03-31 23:02:38 -0400 (Mon, 31 Mar 2025) EllapsedTime: 156.2 seconds RetCode: 1 Status: ERROR CheckDir: hmdbQuery.Rcheck Warnings: NA