Package: hmdbQuery Version: 1.26.0 Command: /home/biocbuild/bbs-3.20-bioc/R/bin/R CMD build --keep-empty-dirs --no-resave-data --md5 hmdbQuery StartedAt: 2025-03-31 17:38:19 -0400 (Mon, 31 Mar 2025) EndedAt: 2025-03-31 17:39:44 -0400 (Mon, 31 Mar 2025) EllapsedTime: 85.1 seconds RetCode: 0 Status: OK PackageFile: hmdbQuery_1.26.0.tar.gz PackageFileSize: 750.3 KiB