Package: hmdbQuery Version: 1.26.0 Command: /Library/Frameworks/R.framework/Resources/bin/R CMD INSTALL hmdbQuery StartedAt: 2025-03-31 15:09:38 -0400 (Mon, 31 Mar 2025) EndedAt: 2025-03-31 15:09:43 -0400 (Mon, 31 Mar 2025) EllapsedTime: 5.7 seconds RetCode: 0 Status: OK