Package: hipathia Version: 3.6.0 Command: /Library/Frameworks/R.framework/Resources/bin/R CMD INSTALL hipathia StartedAt: 2025-03-31 16:35:35 -0400 (Mon, 31 Mar 2025) EndedAt: 2025-03-31 16:36:50 -0400 (Mon, 31 Mar 2025) EllapsedTime: 74.8 seconds RetCode: 0 Status: OK