Package: hierGWAS Version: 1.36.0 Command: /Library/Frameworks/R.framework/Resources/bin/R CMD check --install=check:hierGWAS.install-out.txt --library=/Library/Frameworks/R.framework/Resources/library --no-vignettes --timings hierGWAS_1.36.0.tar.gz StartedAt: 2025-01-28 21:50:26 -0500 (Tue, 28 Jan 2025) EndedAt: 2025-01-28 21:51:23 -0500 (Tue, 28 Jan 2025) EllapsedTime: 57.0 seconds RetCode: 0 Status: WARNINGS CheckDir: hierGWAS.Rcheck Warnings: 1