Package: hicVennDiagram Version: 1.4.0 Command: /home/biocbuild/R/R/bin/R CMD build --keep-empty-dirs --no-resave-data hicVennDiagram StartedAt: 2025-01-31 00:17:21 -0000 (Fri, 31 Jan 2025) EndedAt: 2025-01-31 00:18:36 -0000 (Fri, 31 Jan 2025) EllapsedTime: 75.0 seconds RetCode: 0 Status: OK PackageFile: hicVennDiagram_1.4.0.tar.gz PackageFileSize: 988.4 KiB