Package: hicVennDiagram Version: 1.4.0 Command: /home/biocbuild/bbs-3.20-bioc/R/bin/R CMD check --install=check:hicVennDiagram.install-out.txt --library=/home/biocbuild/bbs-3.20-bioc/R/site-library --timings hicVennDiagram_1.4.0.tar.gz StartedAt: 2025-01-30 23:01:03 -0500 (Thu, 30 Jan 2025) EndedAt: 2025-01-30 23:05:59 -0500 (Thu, 30 Jan 2025) EllapsedTime: 296.4 seconds RetCode: 0 Status: OK CheckDir: hicVennDiagram.Rcheck Warnings: 0