Package: hiReadsProcessor Version: 1.42.0 Command: /Library/Frameworks/R.framework/Resources/bin/R CMD check --install=check:hiReadsProcessor.install-out.txt --library=/Library/Frameworks/R.framework/Resources/library --no-vignettes --timings hiReadsProcessor_1.42.0.tar.gz StartedAt: 2025-01-28 21:54:03 -0500 (Tue, 28 Jan 2025) EndedAt: 2025-01-28 21:59:15 -0500 (Tue, 28 Jan 2025) EllapsedTime: 311.8 seconds RetCode: 0 Status: OK CheckDir: hiReadsProcessor.Rcheck Warnings: 0