Package: hiReadsProcessor Version: 1.42.0 Command: /Library/Frameworks/R.framework/Resources/bin/R CMD build --keep-empty-dirs --no-resave-data hiReadsProcessor StartedAt: 2025-04-01 01:17:33 -0400 (Tue, 01 Apr 2025) EndedAt: 2025-04-01 01:18:42 -0400 (Tue, 01 Apr 2025) EllapsedTime: 68.8 seconds RetCode: 0 Status: OK PackageFile: hiReadsProcessor_1.42.0.tar.gz PackageFileSize: 3.147 MiB