Package: hiReadsProcessor Version: 1.42.0 Command: rm -rf hiReadsProcessor.buildbin-libdir && mkdir hiReadsProcessor.buildbin-libdir && /Users/biocbuild/BBS/utils/build-universal.sh hiReadsProcessor_1.42.0.tar.gz /Library/Frameworks/R.framework/Resources/bin/R hiReadsProcessor.buildbin-libdir StartedAt: 2025-04-02 14:43:59 -0400 (Wed, 02 Apr 2025) EndedAt: 2025-04-02 14:44:48 -0400 (Wed, 02 Apr 2025) EllapsedTime: 48.6 seconds RetCode: 0 Status: OK PackageFile: hiReadsProcessor_1.42.0.tgz PackageFileSize: 3.003 MiB