Package: hiAnnotator Version: 1.40.0 Command: /home/biocbuild/R/R/bin/R CMD check --install=check:hiAnnotator.install-out.txt --library=/home/biocbuild/R/R/site-library --no-vignettes --timings hiAnnotator_1.40.0.tar.gz StartedAt: 2025-02-14 07:38:15 -0000 (Fri, 14 Feb 2025) EndedAt: 2025-02-14 07:43:46 -0000 (Fri, 14 Feb 2025) EllapsedTime: 331.3 seconds RetCode: 0 Status: OK CheckDir: hiAnnotator.Rcheck Warnings: 0