Package: hiAnnotator Version: 1.40.0 Command: /home/biocbuild/R/R/bin/R CMD build --keep-empty-dirs --no-resave-data hiAnnotator StartedAt: 2025-02-14 00:16:58 -0000 (Fri, 14 Feb 2025) EndedAt: 2025-02-14 00:18:08 -0000 (Fri, 14 Feb 2025) EllapsedTime: 70.0 seconds RetCode: 0 Status: OK PackageFile: hiAnnotator_1.40.0.tar.gz PackageFileSize: 679.7 KiB