Package: hiAnnotator Version: 1.40.0 Command: chmod a+r hiAnnotator -R && F:\biocbuild\bbs-3.20-bioc\R\bin\R.exe CMD build --keep-empty-dirs --no-resave-data hiAnnotator StartedAt: 2025-02-13 19:23:50 -0500 (Thu, 13 Feb 2025) EndedAt: 2025-02-13 19:25:24 -0500 (Thu, 13 Feb 2025) EllapsedTime: 94.4 seconds RetCode: 0 Status: OK PackageFile: hiAnnotator_1.40.0.tar.gz PackageFileSize: 689.3 KiB