Package: hiAnnotator Version: 1.40.0 Command: /home/biocbuild/bbs-3.20-bioc/R/bin/R CMD INSTALL hiAnnotator StartedAt: 2025-02-13 15:25:51 -0500 (Thu, 13 Feb 2025) EndedAt: 2025-02-13 15:26:23 -0500 (Thu, 13 Feb 2025) EllapsedTime: 31.3 seconds RetCode: 0 Status: OK