Package: hiAnnotator Version: 1.40.0 Command: /home/biocbuild/bbs-3.20-bioc/R/bin/R CMD check --install=check:hiAnnotator.install-out.txt --library=/home/biocbuild/bbs-3.20-bioc/R/site-library --timings hiAnnotator_1.40.0.tar.gz StartedAt: 2025-02-13 23:03:29 -0500 (Thu, 13 Feb 2025) EndedAt: 2025-02-13 23:07:37 -0500 (Thu, 13 Feb 2025) EllapsedTime: 247.2 seconds RetCode: 0 Status: OK CheckDir: hiAnnotator.Rcheck Warnings: 0