Package: hiAnnotator Version: 1.40.0 Command: /home/biocbuild/bbs-3.20-bioc/R/bin/R CMD build --keep-empty-dirs --no-resave-data --md5 hiAnnotator StartedAt: 2025-02-13 17:38:38 -0500 (Thu, 13 Feb 2025) EndedAt: 2025-02-13 17:39:34 -0500 (Thu, 13 Feb 2025) EllapsedTime: 56.0 seconds RetCode: 0 Status: OK PackageFile: hiAnnotator_1.40.0.tar.gz PackageFileSize: 774.6 KiB