Package: hiAnnotator Version: 1.40.0 Command: /Library/Frameworks/R.framework/Resources/bin/R CMD check --install=check:hiAnnotator.install-out.txt --library=/Library/Frameworks/R.framework/Resources/library --no-vignettes --timings hiAnnotator_1.40.0.tar.gz StartedAt: 2025-02-14 04:38:40 -0500 (Fri, 14 Feb 2025) EndedAt: 2025-02-14 04:46:17 -0500 (Fri, 14 Feb 2025) EllapsedTime: 456.2 seconds RetCode: 0 Status: OK CheckDir: hiAnnotator.Rcheck Warnings: 0