Package: hiAnnotator Version: 1.40.0 Command: /Library/Frameworks/R.framework/Resources/bin/R CMD build --keep-empty-dirs --no-resave-data hiAnnotator StartedAt: 2025-02-13 19:26:49 -0500 (Thu, 13 Feb 2025) EndedAt: 2025-02-13 19:28:57 -0500 (Thu, 13 Feb 2025) EllapsedTime: 128.5 seconds RetCode: 0 Status: OK PackageFile: hiAnnotator_1.40.0.tar.gz PackageFileSize: 733.2 KiB