Package: hiAnnotator Version: 1.40.0 Command: /Library/Frameworks/R.framework/Resources/bin/R CMD INSTALL hiAnnotator StartedAt: 2025-02-13 16:02:47 -0500 (Thu, 13 Feb 2025) EndedAt: 2025-02-13 16:03:28 -0500 (Thu, 13 Feb 2025) EllapsedTime: 40.6 seconds RetCode: 0 Status: OK