Package: hiAnnotator Version: 1.40.0 Command: /Library/Frameworks/R.framework/Resources/bin/R CMD build --keep-empty-dirs --no-resave-data hiAnnotator StartedAt: 2025-02-14 01:27:28 -0500 (Fri, 14 Feb 2025) EndedAt: 2025-02-14 01:28:41 -0500 (Fri, 14 Feb 2025) EllapsedTime: 73.3 seconds RetCode: 0 Status: OK PackageFile: hiAnnotator_1.40.0.tar.gz PackageFileSize: 733.2 KiB