Package: hiAnnotator Version: 1.40.0 Command: rm -rf hiAnnotator.buildbin-libdir && mkdir hiAnnotator.buildbin-libdir && /Users/biocbuild/BBS/utils/build-universal.sh hiAnnotator_1.40.0.tar.gz /Library/Frameworks/R.framework/Resources/bin/R hiAnnotator.buildbin-libdir StartedAt: 2025-02-15 15:39:22 -0500 (Sat, 15 Feb 2025) EndedAt: 2025-02-15 15:40:05 -0500 (Sat, 15 Feb 2025) EllapsedTime: 43.8 seconds RetCode: 0 Status: OK PackageFile: hiAnnotator_1.40.0.tgz PackageFileSize: 816.9 KiB