Package: heatmaps Version: 1.30.0 Command: /home/biocbuild/R/R/bin/R CMD build --keep-empty-dirs --no-resave-data heatmaps StartedAt: 2025-01-28 00:54:14 -0000 (Tue, 28 Jan 2025) EndedAt: 2025-01-28 00:55:53 -0000 (Tue, 28 Jan 2025) EllapsedTime: 98.1 seconds RetCode: 0 Status: OK PackageFile: heatmaps_1.30.0.tar.gz PackageFileSize: 7.347 MiB