Package: heatmaps Version: 1.30.0 Command: F:\biocbuild\bbs-3.20-bioc\R\bin\R.exe CMD INSTALL heatmaps StartedAt: 2025-03-31 15:45:05 -0400 (Mon, 31 Mar 2025) EndedAt: 2025-03-31 15:45:53 -0400 (Mon, 31 Mar 2025) EllapsedTime: 48.2 seconds RetCode: 0 Status: OK