Package: heatmaps Version: 1.30.0 Command: chmod a+r heatmaps -R && F:\biocbuild\bbs-3.20-bioc\R\bin\R.exe CMD build --keep-empty-dirs --no-resave-data heatmaps StartedAt: 2025-01-27 19:28:10 -0500 (Mon, 27 Jan 2025) EndedAt: 2025-01-27 19:31:02 -0500 (Mon, 27 Jan 2025) EllapsedTime: 171.6 seconds RetCode: 0 Status: OK PackageFile: heatmaps_1.30.0.tar.gz PackageFileSize: 8.083 MiB