Package: heatmaps Version: 1.30.0 Command: /Library/Frameworks/R.framework/Resources/bin/R CMD build --keep-empty-dirs --no-resave-data heatmaps StartedAt: 2025-01-27 19:36:06 -0500 (Mon, 27 Jan 2025) EndedAt: 2025-01-27 19:39:21 -0500 (Mon, 27 Jan 2025) EllapsedTime: 194.9 seconds RetCode: 0 Status: OK PackageFile: heatmaps_1.30.0.tar.gz PackageFileSize: 8.741 MiB