Package: heatmaps Version: 1.30.0 Command: /Library/Frameworks/R.framework/Resources/bin/R CMD INSTALL heatmaps StartedAt: 2025-01-27 16:38:34 -0500 (Mon, 27 Jan 2025) EndedAt: 2025-01-27 16:38:55 -0500 (Mon, 27 Jan 2025) EllapsedTime: 21.3 seconds RetCode: 0 Status: OK