Package: heatmaps Version: 1.30.0 Command: /Library/Frameworks/R.framework/Resources/bin/R CMD build --keep-empty-dirs --no-resave-data heatmaps StartedAt: 2025-01-28 01:16:00 -0500 (Tue, 28 Jan 2025) EndedAt: 2025-01-28 01:17:36 -0500 (Tue, 28 Jan 2025) EllapsedTime: 95.4 seconds RetCode: 0 Status: OK PackageFile: heatmaps_1.30.0.tar.gz PackageFileSize: 8.741 MiB