Package: hdxmsqc Version: 1.2.0 Command: /home/biocbuild/R/R/bin/R CMD check --install=check:hdxmsqc.install-out.txt --library=/home/biocbuild/R/R/site-library --no-vignettes --timings hdxmsqc_1.2.0.tar.gz StartedAt: 2025-04-01 07:16:45 -0000 (Tue, 01 Apr 2025) EndedAt: 2025-04-01 07:21:44 -0000 (Tue, 01 Apr 2025) EllapsedTime: 299.2 seconds RetCode: 0 Status: OK CheckDir: hdxmsqc.Rcheck Warnings: 0