Package: hdxmsqc Version: 1.2.0 Command: /home/biocbuild/R/R/bin/R CMD build --keep-empty-dirs --no-resave-data hdxmsqc StartedAt: 2025-04-01 00:08:40 -0000 (Tue, 01 Apr 2025) EndedAt: 2025-04-01 00:14:04 -0000 (Tue, 01 Apr 2025) EllapsedTime: 323.2 seconds RetCode: 0 Status: OK PackageFile: hdxmsqc_1.2.0.tar.gz PackageFileSize: 2.846 MiB