Package: hdxmsqc Version: 1.2.0 Command: chmod a+r hdxmsqc -R && F:\biocbuild\bbs-3.20-bioc\R\bin\R.exe CMD build --keep-empty-dirs --no-resave-data hdxmsqc StartedAt: 2025-01-27 19:28:07 -0500 (Mon, 27 Jan 2025) EndedAt: 2025-01-27 19:33:53 -0500 (Mon, 27 Jan 2025) EllapsedTime: 345.8 seconds RetCode: 0 Status: OK PackageFile: hdxmsqc_1.2.0.tar.gz PackageFileSize: 3.208 MiB